BEGIN:VCALENDAR
VERSION:2.0
PRODID:-//101.0.67.7//NONSGML kigkonsult.se iCalcreator 2.26.9//
CALSCALE:GREGORIAN
METHOD:PUBLISH
X-WR-CALNAME:Kindalin ~* Cherrybrook Shops Calendar
X-WR-CALDESC:Early Childhood Learning Centres
X-FROM-URL:https://cherrybrookshops.kindalin.com.au
X-WR-TIMEZONE:Australia/Sydney
BEGIN:VTIMEZONE
TZID:Australia/Sydney
X-LIC-LOCATION:Australia/Sydney
BEGIN:STANDARD
DTSTART:20200405T030000
TZOFFSETFROM:+1100
TZOFFSETTO:+1000
RDATE:20210404T030000
TZNAME:AEST
END:STANDARD
BEGIN:DAYLIGHT
DTSTART:20191006T020000
TZOFFSETFROM:+1000
TZOFFSETTO:+1100
RDATE:20201004T020000
TZNAME:AEDT
END:DAYLIGHT
END:VTIMEZONE
BEGIN:VEVENT
UID:CSVConvert3924809d94a2769bd4b7dd7168d810af
DTSTAMP:20200226T041435Z
CATEGORIES:
CONTACT:
DESCRIPTION:A Kindalin tradition for 10 years now\, we are having a visit f
 rom Mr Whippy – ice-creams all round!
DTSTART;TZID=Australia/Sydney:20200227T073000
DTEND;TZID=Australia/Sydney:20200227T180000
SEQUENCE:0
SUMMARY:Mr Whippy Visit
URL:https://cherrybrookshops.kindalin.com.au/event/mr-whippy-visit-5/
X-ALT-DESC;FMTTYPE=text/html:<!DOCTYPE HTML PUBLIC '-//W3C//DTD HTML 3.2//E
 N'>\\n<HTML>\\n<HEAD>\\n<TITLE></TITLE>\\n</HEAD>\\n<BODY><p>A Kindalin tr
 adition for 10 years now\, we are having a visit from Mr Whippy – ice-crea
 ms all round!</p>\n</BODY></HTML>
END:VEVENT
END:VCALENDAR
