BEGIN:VCALENDAR
VERSION:2.0
PRODID:-//101.0.67.7//NONSGML kigkonsult.se iCalcreator 2.26.9//
CALSCALE:GREGORIAN
METHOD:PUBLISH
X-WR-CALNAME:Kindalin ~* Cherrybrook Shops Calendar
X-WR-CALDESC:Early Childhood Learning Centres
X-FROM-URL:https://cherrybrookshops.kindalin.com.au
X-WR-TIMEZONE:Australia/Sydney
BEGIN:VTIMEZONE
TZID:Australia/Sydney
X-LIC-LOCATION:Australia/Sydney
BEGIN:STANDARD
DTSTART:20200405T030000
TZOFFSETFROM:+1100
TZOFFSETTO:+1000
RDATE:20210404T030000
TZNAME:AEST
END:STANDARD
BEGIN:DAYLIGHT
DTSTART:20191006T020000
TZOFFSETFROM:+1000
TZOFFSETTO:+1100
RDATE:20201004T020000
TZNAME:AEDT
END:DAYLIGHT
END:VTIMEZONE
BEGIN:VEVENT
UID:CSVConvertb35a9c8ce2d822e7bc7958ae6fcc19f7
DTSTAMP:20200226T042232Z
CATEGORIES:
CONTACT:
DESCRIPTION:To celebrate St Patrick’s Day today we invite everyone to wear 
 green! We will also be doing some fun activities related to the day.
DTSTART;TZID=Australia/Sydney:20200317T073000
DTEND;TZID=Australia/Sydney:20200317T180000
SEQUENCE:0
SUMMARY:St Patrick’s Day – wear green!
URL:https://cherrybrookshops.kindalin.com.au/event/st-patricks-day-wear-gre
 en/
X-ALT-DESC;FMTTYPE=text/html:<!DOCTYPE HTML PUBLIC '-//W3C//DTD HTML 3.2//E
 N'>\\n<HTML>\\n<HEAD>\\n<TITLE></TITLE>\\n</HEAD>\\n<BODY><p>To celebrate 
 St Patrick’s Day today we invite everyone to wear green! We will also be d
 oing some fun activities related to the day.</p>\n</BODY></HTML>
END:VEVENT
END:VCALENDAR
