BEGIN:VCALENDAR
VERSION:2.0
PRODID:-//101.0.67.7//NONSGML kigkonsult.se iCalcreator 2.26.9//
CALSCALE:GREGORIAN
METHOD:PUBLISH
X-WR-CALNAME:Kindalin ~* Cherrybrook Shops Calendar
X-WR-CALDESC:Early Childhood Learning Centres
X-FROM-URL:https://cherrybrookshops.kindalin.com.au
X-WR-TIMEZONE:Australia/Sydney
BEGIN:VTIMEZONE
TZID:Australia/Sydney
X-LIC-LOCATION:Australia/Sydney
BEGIN:STANDARD
DTSTART:20200405T030000
TZOFFSETFROM:+1100
TZOFFSETTO:+1000
RDATE:20210404T030000
TZNAME:AEST
END:STANDARD
BEGIN:DAYLIGHT
DTSTART:20191006T020000
TZOFFSETFROM:+1000
TZOFFSETTO:+1100
RDATE:20201004T020000
TZNAME:AEDT
END:DAYLIGHT
END:VTIMEZONE
BEGIN:VEVENT
UID:CSVConvert3782e0d6802990e620dba343358482df
DTSTAMP:20200226T041821Z
CATEGORIES:
CONTACT:
DESCRIPTION:
DTSTART;TZID=Australia/Sydney:20200305T073000
DTEND;TZID=Australia/Sydney:20200305T180000
SEQUENCE:0
SUMMARY:Fees
URL:https://cherrybrookshops.kindalin.com.au/event/fees-8/
END:VEVENT
END:VCALENDAR
