BEGIN:VCALENDAR
VERSION:2.0
PRODID:-//101.0.67.7//NONSGML kigkonsult.se iCalcreator 2.26.9//
CALSCALE:GREGORIAN
METHOD:PUBLISH
X-WR-CALNAME:Kindalin ~* Cherrybrook Shops Calendar
X-WR-CALDESC:Early Childhood Learning Centres
X-FROM-URL:https://cherrybrookshops.kindalin.com.au
X-WR-TIMEZONE:Australia/Sydney
BEGIN:VTIMEZONE
TZID:Australia/Sydney
X-LIC-LOCATION:Australia/Sydney
BEGIN:STANDARD
DTSTART:20200405T030000
TZOFFSETFROM:+1100
TZOFFSETTO:+1000
RDATE:20210404T030000
TZNAME:AEST
END:STANDARD
BEGIN:DAYLIGHT
DTSTART:20191006T020000
TZOFFSETFROM:+1000
TZOFFSETTO:+1100
RDATE:20201004T020000
TZNAME:AEDT
END:DAYLIGHT
END:VTIMEZONE
BEGIN:VEVENT
UID:CSVConvertf9fb9b9f7bf14029984c601031b4b72d
DTSTAMP:20200226T042004Z
CATEGORIES:
CONTACT:
DESCRIPTION:Greg the Music Man will be visiting Kindalin to sing a collecti
 on of songs with the children.
DTSTART;TZID=Australia/Sydney:20200313T103000
DTEND;TZID=Australia/Sydney:20200313T113000
SEQUENCE:0
SUMMARY:Music Man
URL:https://cherrybrookshops.kindalin.com.au/event/music-man-22/
X-ALT-DESC;FMTTYPE=text/html:<!DOCTYPE HTML PUBLIC '-//W3C//DTD HTML 3.2//E
 N'>\\n<HTML>\\n<HEAD>\\n<TITLE></TITLE>\\n</HEAD>\\n<BODY><p>Greg the Musi
 c Man will be visiting Kindalin to sing a collection of songs with the chi
 ldren.</p>\n</BODY></HTML>
END:VEVENT
END:VCALENDAR
