BEGIN:VCALENDAR
VERSION:2.0
PRODID:-//101.0.67.7//NONSGML kigkonsult.se iCalcreator 2.26.9//
CALSCALE:GREGORIAN
METHOD:PUBLISH
X-WR-CALNAME:Kindalin ~* Cherrybrook Shops Calendar
X-WR-CALDESC:Early Childhood Learning Centres
X-FROM-URL:https://cherrybrookshops.kindalin.com.au
X-WR-TIMEZONE:Australia/Sydney
BEGIN:VTIMEZONE
TZID:Australia/Sydney
X-LIC-LOCATION:Australia/Sydney
BEGIN:STANDARD
DTSTART:20200405T030000
TZOFFSETFROM:+1100
TZOFFSETTO:+1000
RDATE:20210404T030000
TZNAME:AEST
END:STANDARD
BEGIN:DAYLIGHT
DTSTART:20191006T020000
TZOFFSETFROM:+1000
TZOFFSETTO:+1100
RDATE:20201004T020000
TZNAME:AEDT
END:DAYLIGHT
END:VTIMEZONE
BEGIN:VEVENT
UID:CSVConvertffc199cb494eb049ee9e6668135b54cb
DTSTAMP:20200226T043045Z
CATEGORIES:
CONTACT:
DESCRIPTION:Speech Pathologist\, Lauren Reinhardt will be visiting Kindalin
  to share her experience\, knowledge and insights.
DTSTART;TZID=Australia/Sydney:20200324T190000
DTEND;TZID=Australia/Sydney:20200324T210000
SEQUENCE:0
SUMMARY:Parent Seminar: Leaping Ahead with Speech\, Language and Literacy
URL:https://cherrybrookshops.kindalin.com.au/event/parent-seminar-leaping-a
 head-with-speech-language-and-literacy/
X-ALT-DESC;FMTTYPE=text/html:<!DOCTYPE HTML PUBLIC '-//W3C//DTD HTML 3.2//E
 N'>\\n<HTML>\\n<HEAD>\\n<TITLE></TITLE>\\n</HEAD>\\n<BODY><p>Speech Pathol
 ogist\, Lauren Reinhardt will be visiting Kindalin to share her experience
 \, knowledge and insights.</p>\n</BODY></HTML>
END:VEVENT
END:VCALENDAR
