BEGIN:VCALENDAR
VERSION:2.0
PRODID:-//101.0.67.7//NONSGML kigkonsult.se iCalcreator 2.26.9//
CALSCALE:GREGORIAN
METHOD:PUBLISH
X-WR-CALNAME:Kindalin ~* Cherrybrook Shops Calendar
X-WR-CALDESC:Early Childhood Learning Centres
X-FROM-URL:https://cherrybrookshops.kindalin.com.au
X-WR-TIMEZONE:Australia/Sydney
BEGIN:VTIMEZONE
TZID:Australia/Sydney
X-LIC-LOCATION:Australia/Sydney
BEGIN:STANDARD
DTSTART:20200405T030000
TZOFFSETFROM:+1100
TZOFFSETTO:+1000
RDATE:20210404T030000
TZNAME:AEST
END:STANDARD
BEGIN:DAYLIGHT
DTSTART:20191006T020000
TZOFFSETFROM:+1000
TZOFFSETTO:+1100
RDATE:20201004T020000
TZNAME:AEDT
END:DAYLIGHT
END:VTIMEZONE
BEGIN:VEVENT
UID:CSVConvert5302f191ec973e09490c57b04196ee56
DTSTAMP:20200226T042136Z
CATEGORIES:
CONTACT:
DESCRIPTION:Maree Sproats from Dural Art Studio will be visiting Kindalin n
 ext week to continue her art classes with the Wonderful Wombats.
DTSTART;TZID=Australia/Sydney:20200316T100000
DTEND;TZID=Australia/Sydney:20200316T110000
SEQUENCE:0
SUMMARY:Art with Miss Maree (Wombats)
URL:https://cherrybrookshops.kindalin.com.au/event/art-with-miss-maree-womb
 ats/
X-ALT-DESC;FMTTYPE=text/html:<!DOCTYPE HTML PUBLIC '-//W3C//DTD HTML 3.2//E
 N'>\\n<HTML>\\n<HEAD>\\n<TITLE></TITLE>\\n</HEAD>\\n<BODY><p>Maree Sproats
  from Dural Art Studio will be visiting Kindalin next week to continue her
  art classes with the Wonderful Wombats. </p>\n</BODY></HTML>
END:VEVENT
END:VCALENDAR
