BEGIN:VCALENDAR
VERSION:2.0
PRODID:-//101.0.67.7//NONSGML kigkonsult.se iCalcreator 2.26.9//
CALSCALE:GREGORIAN
METHOD:PUBLISH
X-WR-CALNAME:Kindalin ~* Cherrybrook Shops Calendar
X-WR-CALDESC:Early Childhood Learning Centres
X-FROM-URL:https://cherrybrookshops.kindalin.com.au
X-WR-TIMEZONE:Australia/Sydney
BEGIN:VTIMEZONE
TZID:Australia/Sydney
X-LIC-LOCATION:Australia/Sydney
BEGIN:STANDARD
DTSTART:20200405T030000
TZOFFSETFROM:+1100
TZOFFSETTO:+1000
RDATE:20210404T030000
TZNAME:AEST
END:STANDARD
BEGIN:DAYLIGHT
DTSTART:20191006T020000
TZOFFSETFROM:+1000
TZOFFSETTO:+1100
RDATE:20201004T020000
TZNAME:AEDT
END:DAYLIGHT
END:VTIMEZONE
BEGIN:VEVENT
UID:CSVConvertf1defc124b332901324994f0b5357f7c
DTSTAMP:20200226T042359Z
CATEGORIES:
CONTACT:
DESCRIPTION:Pat will be visiting Kindalin to resume his soccer skills activ
 ities with the children. Pat visits Kindalin each month providing the chil
 dren with the opportunity to engage in gross motor skill activities.
DTSTART;TZID=Australia/Sydney:20200324T093000
DTEND;TZID=Australia/Sydney:20200324T120000
SEQUENCE:0
SUMMARY:Soccer Pat
URL:https://cherrybrookshops.kindalin.com.au/event/soccer-pat-4/
X-ALT-DESC;FMTTYPE=text/html:<!DOCTYPE HTML PUBLIC '-//W3C//DTD HTML 3.2//E
 N'>\\n<HTML>\\n<HEAD>\\n<TITLE></TITLE>\\n</HEAD>\\n<BODY><p>Pat will be v
 isiting Kindalin to resume his soccer skills activities with the children.
  Pat visits Kindalin each month providing the children with the opportunit
 y to engage in gross motor skill activities.</p>\n</BODY></HTML>
END:VEVENT
END:VCALENDAR
