BEGIN:VCALENDAR
VERSION:2.0
PRODID:-//101.0.67.7//NONSGML kigkonsult.se iCalcreator 2.26.9//
CALSCALE:GREGORIAN
METHOD:PUBLISH
X-WR-CALNAME:Kindalin ~* Cherrybrook Shops Calendar
X-WR-CALDESC:Early Childhood Learning Centres
X-FROM-URL:https://cherrybrookshops.kindalin.com.au
X-WR-TIMEZONE:Australia/Sydney
BEGIN:VTIMEZONE
TZID:Australia/Sydney
X-LIC-LOCATION:Australia/Sydney
BEGIN:STANDARD
DTSTART:20200405T030000
TZOFFSETFROM:+1100
TZOFFSETTO:+1000
RDATE:20210404T030000
TZNAME:AEST
END:STANDARD
BEGIN:DAYLIGHT
DTSTART:20191006T020000
TZOFFSETFROM:+1000
TZOFFSETTO:+1100
RDATE:20201004T020000
TZNAME:AEDT
END:DAYLIGHT
END:VTIMEZONE
BEGIN:VEVENT
UID:CSVConvertbe2e984e2bbcf5e4e4eaf0eafe56c3e3
DTSTAMP:20200226T041702Z
CATEGORIES:
CONTACT:
DESCRIPTION:We invite all of our Wonderful Wombat parents to our annual Cof
 fee Night – meet our staff and hear about all of the growing and learning 
 coming up for your child this year!
DTSTART;TZID=Australia/Sydney:20200303T190000
DTEND;TZID=Australia/Sydney:20200303T200000
SEQUENCE:0
SUMMARY:Wonderful Wombats Coffee Night
URL:https://cherrybrookshops.kindalin.com.au/event/wonderful-wombats-coffee
 -night-6/
X-ALT-DESC;FMTTYPE=text/html:<!DOCTYPE HTML PUBLIC '-//W3C//DTD HTML 3.2//E
 N'>\\n<HTML>\\n<HEAD>\\n<TITLE></TITLE>\\n</HEAD>\\n<BODY><p>We invite all
  of our Wonderful Wombat parents to our annual Coffee Night – meet our sta
 ff and hear about all of the growing and learning coming up for your child
  this year!</p>\n</BODY></HTML>
END:VEVENT
END:VCALENDAR
